BEGIN:VCALENDAR
VERSION:2.0
PRODID:-//Plone.org//NONSGML plone.app.event//EN
X-WR-TIMEZONE:America/Sao_Paulo
BEGIN:VEVENT
SUMMARY:Colação de Grau oficial dos Cursos de Geologia\, Geografia e Tur
 ismo em [ Auditorio Nobre do CAD 1]
DTSTART;TZID=America/Sao_Paulo;VALUE=DATE-TIME:20200723T190000
DTEND;TZID=America/Sao_Paulo;VALUE=DATE-TIME:20200723T210000
DTSTAMP;VALUE=DATE-TIME:20260424T212627Z
UID:711b500c0ae04a0cb84eca4f88e89b98@150.164.76.86:8080
CREATED;VALUE=DATE-TIME:20200206T193208Z
DESCRIPTION:Para a colação de grau oficial\, necessitaremos da mesa de h
 onra com capaciade aproximada de 15 lugares\, \nbandeiras\, hino\, arranjo
  artificial de flores\, espaço para os alunos vestirem as becas\, 01 mesa
  pequena e 3 cadeiras.
LAST-MODIFIED;VALUE=DATE-TIME:20200213T132955Z
URL:http://150.164.76.86:8080/cac/agenda/10773649818063036491
END:VEVENT
BEGIN:VTIMEZONE
TZID:America/Sao_Paulo
X-LIC-LOCATION:America/Sao_Paulo
BEGIN:STANDARD
DTSTART;VALUE=DATE-TIME:20200215T230000
TZNAME:BRT
TZOFFSETFROM:-0200
TZOFFSETTO:-0300
END:STANDARD
END:VTIMEZONE
END:VCALENDAR
