BEGIN:VCALENDAR
VERSION:2.0
PRODID:-//Plone.org//NONSGML plone.app.event//EN
X-WR-TIMEZONE:America/Sao_Paulo
BEGIN:VEVENT
SUMMARY:17° FESTFOLK BH em [ Auditorio da Reitoria]
DTSTART;TZID=America/Sao_Paulo;VALUE=DATE-TIME:20241108T080000
DTEND;TZID=America/Sao_Paulo;VALUE=DATE-TIME:20241108T200000
DTSTAMP;VALUE=DATE-TIME:20260419T175927Z
UID:4e2250a30a0941a4829367f17de28cce@150.164.76.86:8080
CREATED;VALUE=DATE-TIME:20240606T125308Z
DESCRIPTION:<p>Abertura do <span>17° FESTFOLK BH.</span></p>
LAST-MODIFIED;VALUE=DATE-TIME:20240606T125440Z
URL:http://150.164.76.86:8080/cac/agenda/10767836077716229579
END:VEVENT
BEGIN:VTIMEZONE
TZID:America/Sao_Paulo
X-LIC-LOCATION:America/Sao_Paulo
BEGIN:DAYLIGHT
DTSTART;VALUE=DATE-TIME:20241020T010000
TZNAME:BRST
TZOFFSETFROM:-0300
TZOFFSETTO:-0200
END:DAYLIGHT
END:VTIMEZONE
END:VCALENDAR
