BEGIN:VCALENDAR
VERSION:2.0
PRODID:-//Plone.org//NONSGML plone.app.event//EN
X-WR-TIMEZONE:America/Sao_Paulo
BEGIN:VEVENT
SUMMARY:PicadeRRÓ em [ Arena da praça de serviços]
DTSTART;TZID=America/Sao_Paulo;VALUE=DATE-TIME:20231108T173000
DTEND;TZID=America/Sao_Paulo;VALUE=DATE-TIME:20231108T190000
DTSTAMP;VALUE=DATE-TIME:20260420T131857Z
UID:57e947b4253e484ea394015cdd11eb94@150.164.76.86:8080
CREATED;VALUE=DATE-TIME:20230706T145016Z
DESCRIPTION:Evento de caráter cultural com objetivo de divulgação da cu
 ltura do forró\, promovendo forró gratuitamente para toda a comunidade d
 a UFMG. \nUtilizamos nossos próprios equipamentos sendo eles: caixa de so
 m\, microfone e computadores.
LAST-MODIFIED;VALUE=DATE-TIME:20230706T151900Z
URL:http://150.164.76.86:8080/cac/agenda/10762602125888959427
END:VEVENT
BEGIN:VTIMEZONE
TZID:America/Sao_Paulo
X-LIC-LOCATION:America/Sao_Paulo
BEGIN:DAYLIGHT
DTSTART;VALUE=DATE-TIME:20231015T010000
TZNAME:BRST
TZOFFSETFROM:-0300
TZOFFSETTO:-0200
END:DAYLIGHT
END:VTIMEZONE
END:VCALENDAR
