BEGIN:VCALENDAR
VERSION:2.0
PRODID:-//Plone.org//NONSGML plone.app.event//EN
X-WR-TIMEZONE:America/Sao_Paulo
BEGIN:VEVENT
SUMMARY:workshop Eletron Microscopy 3D em [ Auditório B101/102 do CAD 3]
DTSTART;TZID=America/Sao_Paulo;VALUE=DATE-TIME:20250325T140000
DTEND;TZID=America/Sao_Paulo;VALUE=DATE-TIME:20250325T170000
DTSTAMP;VALUE=DATE-TIME:20260419T120253Z
UID:9593c4e8bb334bde92bee641cbd258b0@150.164.76.86:8080
CREATED;VALUE=DATE-TIME:20250226T190630Z
DESCRIPTION:<p>O evento irá demandar Serviço Audiovisual\, projetor\, mi
 crofones\, espaço para coffebreak. Programação prevista\; Manhã: Pales
 tra de Abertura 8:00 "Introdução à Microscopia Eletrônica 3D: Princíp
 ios e Aplicações" Palestra 9:00 "Técnicas de Preparo de Amostras para M
 icroscopia Eletrônica 3D" 10:00 COFFEBREAK Palestra 11:00 "Reconstrução
  3D de Imagens de Microscopia Eletrônica: Softwares e Métodos" Tarde: Pa
 lestra 14:00 "Aplicações da Microscopia Eletrônica 3D em Pesquisa Biom
 édica: Estudos de Caso" 15:00 COFFEBREAK 16:00 Encerramento</p>
LAST-MODIFIED;VALUE=DATE-TIME:20250310T174129Z
URL:http://150.164.76.86:8080/cac/agenda/10714571127867630352
END:VEVENT
BEGIN:VTIMEZONE
TZID:America/Sao_Paulo
X-LIC-LOCATION:America/Sao_Paulo
BEGIN:STANDARD
DTSTART;VALUE=DATE-TIME:20250215T230000
TZNAME:BRT
TZOFFSETFROM:-0200
TZOFFSETTO:-0300
END:STANDARD
END:VTIMEZONE
END:VCALENDAR
