BEGIN:VCALENDAR
VERSION:2.0
PRODID:-//Plone.org//NONSGML plone.app.event//EN
X-WR-TIMEZONE:America/Sao_Paulo
BEGIN:VEVENT
SUMMARY:Tópicos em Filosofia em [ Auditório B107 do CAD3]
DTSTART;TZID=America/Sao_Paulo;VALUE=DATE-TIME:20240614T130000
DTEND;TZID=America/Sao_Paulo;VALUE=DATE-TIME:20240614T180000
DTSTAMP;VALUE=DATE-TIME:20260420T025955Z
UID:b5827776d22c43d3b59d4d63bd948639@150.164.76.86:8080
CREATED;VALUE=DATE-TIME:20240306T124529Z
DESCRIPTION:Aula ampliada da disciplina Tópicos em Filosofia. Atividade c
 om a presença do servidor Fabricio Riff para ajudar na TI.
LAST-MODIFIED;VALUE=DATE-TIME:20240613T165858Z
URL:http://150.164.76.86:8080/cac/agenda/10711865929793311812
END:VEVENT
BEGIN:VTIMEZONE
TZID:America/Sao_Paulo
X-LIC-LOCATION:America/Sao_Paulo
BEGIN:STANDARD
DTSTART;VALUE=DATE-TIME:20240217T230000
TZNAME:BRT
TZOFFSETFROM:-0200
TZOFFSETTO:-0300
END:STANDARD
END:VTIMEZONE
END:VCALENDAR
