BEGIN:VCALENDAR
VERSION:2.0
PRODID:-//Plone.org//NONSGML plone.app.event//EN
X-WR-TIMEZONE:America/Sao_Paulo
BEGIN:VEVENT
SUMMARY:Conferência Lilia Schwarcz em [ Auditorio A102 do Cad 2]
DTSTART;TZID=America/Sao_Paulo;VALUE=DATE-TIME:20241126T140000
DTEND;TZID=America/Sao_Paulo;VALUE=DATE-TIME:20241126T170000
DTSTAMP;VALUE=DATE-TIME:20260419T193345Z
UID:05e20ee7205a469fb5f30bfaae1bc731@150.164.76.86:8080
CREATED;VALUE=DATE-TIME:20241002T193505Z
DESCRIPTION:<p>Serão necessários projetor\, microfone\, sistema de som. 
 O evento terá a duração de aproximadamente 2 horas e meia\, com uma con
 ferência da pensadora Lilia Schwarcz com o tema Imagens da Branquitude. E
 sta conferência integra um Ciclo de Palestras promovido pelo PPGArtes\, q
 ue também contará com uma palestra de Alexandre Sequeira no dia 09 de ou
 tubro de 2024\, no auditório do Centro Cultural da UFMG e com uma confer
 ência da pensadora Silvia Rivera-Cusicanqui no dia 12 de novembro\, no Au
 ditório Nobre do CAD 1\, em programação conjunta do PPGArtes e do V Enc
 ontro Latino-Americano de investigadores(as) sobre corpos e corporalidades
  nas culturas. Sobre o Ciclo de Palestras - Viver com as diferenças\, pra
 ticar as diferenças. A diferença em si comporta várias definições\, o
 u por outra\, tensiona vários limites. Viver e praticar as diferenças co
 necta-se com caminhos como as discussões de gênero\, identidade e as dif
 erentes expressões artísticas\; o feminismo ambiental\; a crítica ao no
 vo e ao neo-colonialismo\; um olhar voltado para o viver em meio as ruína
 s do capitalismo. A identidade do PPG Artes é fundada na compreensão das
  Artes como área de conhecimento composta por atravessamentos interartes 
 e transdisciplinares e da pesquisa em/sobre Artes que articula as dimensõ
 es práticas e teóricas de obras e acontecimentos artísticos\, sempre vi
 sando à experiência e à reflexão sobre seus processos de criação\, s
 eus procedimentos e técnicas de conservação e preservação\, suas meto
 dologias de ensino-aprendizagem. Priorizamos a investigação prática seg
 uida de reflexão crítica dos processos de construção e criação de ob
 ras de arte. Nesse sentido\, a proposta do Ciclo de Palestras “Viver com
  as diferenças\, praticar as diferenças” explora um necessário diálo
 go sobre o mundo em extinção/mutação e a importância de experimentar 
 e praticar outras formas de (com)viver com a multiplicidade de perspectiva
 s e quebrar a lógica periferia-centro\, considerando os deslocamentos pro
 piciados pelo pensar e fazer artístico. Consideramos a criação artísti
 ca como uma forma de defender as formas de existência que\, ainda que par
 eçam se colocar como existências mínimas\, carregam em si a energia par
 a nos repensarmos dentro das diferenças.</p>
LAST-MODIFIED;VALUE=DATE-TIME:20241122T200751Z
URL:http://150.164.76.86:8080/cac/agenda/10704799248488313313
END:VEVENT
BEGIN:VTIMEZONE
TZID:America/Sao_Paulo
X-LIC-LOCATION:America/Sao_Paulo
BEGIN:DAYLIGHT
DTSTART;VALUE=DATE-TIME:20241020T010000
TZNAME:BRST
TZOFFSETFROM:-0300
TZOFFSETTO:-0200
END:DAYLIGHT
END:VTIMEZONE
END:VCALENDAR
