BEGIN:VCALENDAR
VERSION:2.0
PRODID:-//Plone.org//NONSGML plone.app.event//EN
X-WR-TIMEZONE:America/Sao_Paulo
BEGIN:VEVENT
SUMMARY:Reunião de equipe da Prograd em [ Auditório B106 do CAD3]
DTSTART;TZID=America/Sao_Paulo;VALUE=DATE-TIME:20230428T093000
DTEND;TZID=America/Sao_Paulo;VALUE=DATE-TIME:20230428T113000
DTSTAMP;VALUE=DATE-TIME:20260421T145901Z
UID:17db44812406451895cf9c8efe6d9e59@150.164.76.86:8080
CREATED;VALUE=DATE-TIME:20230404T180835Z
DESCRIPTION:<p>Microfone de mesa para duas pessoas e projeção.</p>
LAST-MODIFIED;VALUE=DATE-TIME:20230427T160808Z
URL:http://150.164.76.86:8080/cac/agenda/10683695011985244431
END:VEVENT
BEGIN:VTIMEZONE
TZID:America/Sao_Paulo
X-LIC-LOCATION:America/Sao_Paulo
BEGIN:STANDARD
DTSTART;VALUE=DATE-TIME:20230225T230000
TZNAME:BRT
TZOFFSETFROM:-0200
TZOFFSETTO:-0300
END:STANDARD
END:VTIMEZONE
END:VCALENDAR
