BEGIN:VCALENDAR
VERSION:2.0
PRODID:-//Plone.org//NONSGML plone.app.event//EN
X-WR-TIMEZONE:America/Sao_Paulo
BEGIN:VEVENT
SUMMARY:ASSEMBLEIA DO SINDIFES em [ Auditório B107 do CAD3]
DTSTART;TZID=America/Sao_Paulo;VALUE=DATE-TIME:20241010T080000
DTEND;TZID=America/Sao_Paulo;VALUE=DATE-TIME:20241010T130000
DTSTAMP;VALUE=DATE-TIME:20260419T192415Z
UID:c7f317a8326244e6a592d238e78c53d6@150.164.76.86:8080
CREATED;VALUE=DATE-TIME:20241003T170418Z
DESCRIPTION:<p>ASSEMBLEIA</p>
LAST-MODIFIED;VALUE=DATE-TIME:20241003T175234Z
URL:http://150.164.76.86:8080/cac/agenda/10675769183067201043
END:VEVENT
BEGIN:VTIMEZONE
TZID:America/Sao_Paulo
X-LIC-LOCATION:America/Sao_Paulo
BEGIN:STANDARD
DTSTART;VALUE=DATE-TIME:20240217T230000
TZNAME:BRT
TZOFFSETFROM:-0200
TZOFFSETTO:-0300
END:STANDARD
END:VTIMEZONE
END:VCALENDAR
