BEGIN:VCALENDAR
VERSION:2.0
PRODID:-//Plone.org//NONSGML plone.app.event//EN
X-WR-TIMEZONE:America/Sao_Paulo
BEGIN:VEVENT
SUMMARY:workshop de Phenomics em [ Auditório B101/102 do CAD 3]
DTSTART;TZID=America/Sao_Paulo;VALUE=DATE-TIME:20230828T080000
DTEND;TZID=America/Sao_Paulo;VALUE=DATE-TIME:20230830T180000
DTSTAMP;VALUE=DATE-TIME:20260421T091236Z
UID:ae7ad1b0d39148cabcf7d421d2c7d50a@150.164.76.86:8080
CREATED;VALUE=DATE-TIME:20230705T144131Z
DESCRIPTION:<p>Evento com o Consulado American intitulado " Phenomics". OB
 S: Modo aula</p>
LAST-MODIFIED;VALUE=DATE-TIME:20230705T175043Z
URL:http://150.164.76.86:8080/cac/agenda/10656328205577280156
END:VEVENT
BEGIN:VTIMEZONE
TZID:America/Sao_Paulo
X-LIC-LOCATION:America/Sao_Paulo
BEGIN:STANDARD
DTSTART;VALUE=DATE-TIME:20230225T230000
TZNAME:BRT
TZOFFSETFROM:-0200
TZOFFSETTO:-0300
END:STANDARD
END:VTIMEZONE
END:VCALENDAR
