BEGIN:VCALENDAR
VERSION:2.0
PRODID:-//Plone.org//NONSGML plone.app.event//EN
X-WR-TIMEZONE:America/Sao_Paulo
BEGIN:VEVENT
SUMMARY:Reunião de pais e alunos do Coltec 2022 em [ Auditorio Nobre do C
 AD 1]
DTSTART;TZID=America/Sao_Paulo;VALUE=DATE-TIME:20220404T190000
DTEND;TZID=America/Sao_Paulo;VALUE=DATE-TIME:20220404T210000
DTSTAMP;VALUE=DATE-TIME:20260422T081523Z
UID:1bae3bb965c9487d96bb8e9d95c27250@150.164.76.86:8080
CREATED;VALUE=DATE-TIME:20220310T202525Z
DESCRIPTION:<p>Reunião com pais e alunos ingressantes dos cursos técnico
 s integrados do Coltec 2022</p>
LAST-MODIFIED;VALUE=DATE-TIME:20220331T180538Z
URL:http://150.164.76.86:8080/cac/agenda/10652889703234445735
END:VEVENT
BEGIN:VTIMEZONE
TZID:America/Sao_Paulo
X-LIC-LOCATION:America/Sao_Paulo
BEGIN:STANDARD
DTSTART;VALUE=DATE-TIME:20220219T230000
TZNAME:BRT
TZOFFSETFROM:-0200
TZOFFSETTO:-0300
END:STANDARD
END:VTIMEZONE
END:VCALENDAR
