BEGIN:VCALENDAR
VERSION:2.0
PRODID:-//Plone.org//NONSGML plone.app.event//EN
X-WR-TIMEZONE:America/Sao_Paulo
BEGIN:VEVENT
SUMMARY:Aula Inaugural da Formação Transversal em Divulgação Científi
 ca em [ Auditorio Nobre do CAD 1 - sem copa\, saguão parcial]
DTSTART;TZID=America/Sao_Paulo;VALUE=DATE-TIME:20250429T180000
DTEND;TZID=America/Sao_Paulo;VALUE=DATE-TIME:20250429T200000
DTSTAMP;VALUE=DATE-TIME:20260419T120122Z
UID:9f3f2903ef914b15a102cfc7b10dfe6e@150.164.76.86:8080
CREATED;VALUE=DATE-TIME:20250407T205540Z
DESCRIPTION:O evento é a Aula Inaugural da Formação Transversal em Divu
 lgação Científica da UFMG.\n\nContaremos com a participação da profes
 sora Dra. Nubia Beray Armond (UFRJ/ UI) que estará apresentando sua pales
 tra da Universidade de Illinois\, Indiana/EUA.\n\nPor isso precisaremos de
  uma sala com um equipamento de audio bom\, telão para transmitir a image
 m\, microfone para o Prof. José Eugênio Cortes Figueira que será o medi
 ador e estará no Auditório\, mais 2 microfones para a plateia e que seja
  tudo intercomunicável. \n\nGostaria de um auxílio nessa parte para sabe
 r como fazer essa conferência e se possível transmitir online no site da
  PROEX também.\n\n18 h: abertura \n\n18:20 Palestra Prof. Nubia\n\n19 h Q
 uestões do mediador e do público
LAST-MODIFIED;VALUE=DATE-TIME:20250417T185431Z
URL:http://150.164.76.86:8080/cac/agenda/10641108531646539765
END:VEVENT
BEGIN:VTIMEZONE
TZID:America/Sao_Paulo
X-LIC-LOCATION:America/Sao_Paulo
BEGIN:STANDARD
DTSTART;VALUE=DATE-TIME:20250215T230000
TZNAME:BRT
TZOFFSETFROM:-0200
TZOFFSETTO:-0300
END:STANDARD
END:VTIMEZONE
END:VCALENDAR
