BEGIN:VCALENDAR
VERSION:2.0
PRODID:-//Plone.org//NONSGML plone.app.event//EN
X-WR-TIMEZONE:America/Sao_Paulo
BEGIN:VEVENT
SUMMARY:Seminário de Formação em Políticas Culturais em [ Auditório B
 101/102 do CAD 3 Auditório B106 do CAD3 Auditório B107 do CAD3]
DTSTART;TZID=America/Sao_Paulo;VALUE=DATE-TIME:20240506T070000
DTEND;TZID=America/Sao_Paulo;VALUE=DATE-TIME:20240510T190000
DTSTAMP;VALUE=DATE-TIME:20260420T014342Z
UID:89abadb404b84276bef0fd78c8d94108@150.164.76.86:8080
CREATED;VALUE=DATE-TIME:20240111T174654Z
DESCRIPTION:<p>Equipamento de som\, luz e projetor.</p>
LAST-MODIFIED;VALUE=DATE-TIME:20240509T122830Z
URL:http://150.164.76.86:8080/cac/agenda/10637316351906287149
END:VEVENT
BEGIN:VTIMEZONE
TZID:America/Sao_Paulo
X-LIC-LOCATION:America/Sao_Paulo
BEGIN:STANDARD
DTSTART;VALUE=DATE-TIME:20240217T230000
TZNAME:BRT
TZOFFSETFROM:-0200
TZOFFSETTO:-0300
END:STANDARD
END:VTIMEZONE
END:VCALENDAR
