BEGIN:VCALENDAR
VERSION:2.0
PRODID:-//Plone.org//NONSGML plone.app.event//EN
X-WR-TIMEZONE:America/Sao_Paulo
BEGIN:VEVENT
SUMMARY:III Workshop da Rede Mineira de Ciências Forenses em [ Outros esp
 acos Auditorio A102 do Cad 2 Auditorio A104 do Cad 2]
DTSTART;TZID=America/Sao_Paulo;VALUE=DATE-TIME:20230206T080000
DTEND;TZID=America/Sao_Paulo;VALUE=DATE-TIME:20230210T200000
DTSTAMP;VALUE=DATE-TIME:20260421T163536Z
UID:3d7bfb3f2cdb424db5d9eda2d1e8168e@150.164.76.86:8080
CREATED;VALUE=DATE-TIME:20220808T171556Z
DESCRIPTION:<p>Devido à dificuldade de se conseguir salas adicionais no C
 ampus UFMG para os mini-cursos\, foi resolvido modificar a data do worksho
 p para o período de férias escolares da UFMG. O workshop será ao longo 
 de 3\,5 dias (6 a 9) de fevereiro de 2023. Com sessões plenárias\, diver
 sos minicursos\, apresentação de posters e exposição de empresas parce
 iras e financiadoras. No dia 6\, parte do dia será dedicado à montagem d
 os stands para a secretaria\, expositores e posters. 5 salas adicionais fo
 ram solicitadas para os mini-cursos e a guarda de material dos expositores
 . Deverá ser utilizado o espaço de apoio da cozinha no hall em frente ao
  auditório para o apoio do coffee-break se autorizado pela UFMG. Caso ain
 da não haja autorização para coffeebreak\, serão distribuídos kits de
  lanche para os participantes. O público esperado é da ordem de 400 pess
 oas\, é possível limitar o número de participantes\, se necessário. Um
  maior detalhamento do evento será realizado em breve com o lançamento d
 a homepage do evento. Email adicional para contato: karlaweit@gmail.com Ob
 rigada\, Karla Balzuweit</p>
LAST-MODIFIED;VALUE=DATE-TIME:20230127T131629Z
URL:http://150.164.76.86:8080/cac/agenda/10635943795079360798
END:VEVENT
BEGIN:VTIMEZONE
TZID:America/Sao_Paulo
X-LIC-LOCATION:America/Sao_Paulo
BEGIN:DAYLIGHT
DTSTART;VALUE=DATE-TIME:20221016T010000
TZNAME:BRST
TZOFFSETFROM:-0300
TZOFFSETTO:-0200
END:DAYLIGHT
END:VTIMEZONE
END:VCALENDAR
