BEGIN:VCALENDAR
VERSION:2.0
PRODID:-//Plone.org//NONSGML plone.app.event//EN
X-WR-TIMEZONE:America/Sao_Paulo
BEGIN:VEVENT
SUMMARY:Feriado Finados em [ Saguao da Reitoria Auditorio da Reitoria Gram
 ado da Reitoria Entorno da Praca de Servicos Auditorio Nobre do CAD 1 Audi
 torio 1A do CAD 1 Auditorio 2A do CAD 1 Auditorio A102 do Cad 2 Auditorio 
 A104 do Cad 2 Arena da praça de serviços Auditório B302 do CAD 3 Audit
 ório B101/102 do CAD 3 Auditório B301 do CAD 3]
DTSTART;TZID=America/Sao_Paulo;VALUE=DATE-TIME:20221102T010000
DTEND;TZID=America/Sao_Paulo;VALUE=DATE-TIME:20221102T230000
DTSTAMP;VALUE=DATE-TIME:20260421T204521Z
UID:f8b2530302ff43ab8625cabcb30b86dd@150.164.76.86:8080
CREATED;VALUE=DATE-TIME:20211122T145627Z
DESCRIPTION:<p>.</p>
LAST-MODIFIED;VALUE=DATE-TIME:20230111T201052Z
URL:http://150.164.76.86:8080/cac/agenda/10624672915585502537
END:VEVENT
BEGIN:VTIMEZONE
TZID:America/Sao_Paulo
X-LIC-LOCATION:America/Sao_Paulo
BEGIN:DAYLIGHT
DTSTART;VALUE=DATE-TIME:20221016T010000
TZNAME:BRST
TZOFFSETFROM:-0300
TZOFFSETTO:-0200
END:DAYLIGHT
END:VTIMEZONE
END:VCALENDAR
