BEGIN:VCALENDAR
VERSION:2.0
PRODID:-//Plone.org//NONSGML plone.app.event//EN
X-WR-TIMEZONE:America/Sao_Paulo
BEGIN:VEVENT
SUMMARY:CAPACIDADE EXCEDIDA em [ Saguao da Reitoria Gramado da Reitoria Em
  torno da Praca de Servicos Auditorio Nobre do CAD 1 Auditorio 1A do CAD 1
  Auditorio 2A do CAD 1 Auditório B302 do CAD 3 Auditório B101 do CAD 3 A
 uditório B301 do CAD 3]
DTSTART;TZID=America/Sao_Paulo;VALUE=DATE-TIME:20200521T130000
DTEND;TZID=America/Sao_Paulo;VALUE=DATE-TIME:20200521T230000
DTSTAMP;VALUE=DATE-TIME:20260425T000942Z
UID:a1677ab33b5a4a91b58a70a641edb595@150.164.76.86:8080
CREATED;VALUE=DATE-TIME:20200205T135847Z
DESCRIPTION:<p>.</p>
LAST-MODIFIED;VALUE=DATE-TIME:20200214T154828Z
URL:http://150.164.76.86:8080/cac/agenda/10615316540402516473
END:VEVENT
BEGIN:VTIMEZONE
TZID:America/Sao_Paulo
X-LIC-LOCATION:America/Sao_Paulo
BEGIN:STANDARD
DTSTART;VALUE=DATE-TIME:20200215T230000
TZNAME:BRT
TZOFFSETFROM:-0200
TZOFFSETTO:-0300
END:STANDARD
END:VTIMEZONE
END:VCALENDAR
