BEGIN:VCALENDAR
VERSION:2.0
PRODID:-//Plone.org//NONSGML plone.app.event//EN
X-WR-TIMEZONE:America/Sao_Paulo
BEGIN:VEVENT
SUMMARY:Programação DCE -  Dia Orgulho LGBTQIAPN+ em [ Gramado da Reitor
 ia]
DTSTART;TZID=America/Sao_Paulo;VALUE=DATE-TIME:20230628T143000
DTEND;TZID=America/Sao_Paulo;VALUE=DATE-TIME:20230628T190000
DTSTAMP;VALUE=DATE-TIME:20260421T115924Z
UID:0c47235d85b445f6a6b5a1f19c7676c5@150.164.76.86:8080
CREATED;VALUE=DATE-TIME:20230622T112951Z
DESCRIPTION:<p>Será realizada mais uma edição do evento gaymada\; renom
 eado como queermada. o evento contará com participação e integração d
 e alunes esportistas e gereais\, das atléticas\, baterias e também da LA
 U. será realizado um momento de celebração do orgulho LGBTQIAPN+ assim 
 como a defesa da promoção do esporte\, arte e percurssao como espaço de
  resistência LGBTQIAPN+\, compondo programação alinhada ao dia internac
 ional do orgulho</p>
LAST-MODIFIED;VALUE=DATE-TIME:20230626T171652Z
URL:http://150.164.76.86:8080/cac/agenda/10609477755418214010
END:VEVENT
BEGIN:VTIMEZONE
TZID:America/Sao_Paulo
X-LIC-LOCATION:America/Sao_Paulo
BEGIN:STANDARD
DTSTART;VALUE=DATE-TIME:20230225T230000
TZNAME:BRT
TZOFFSETFROM:-0200
TZOFFSETTO:-0300
END:STANDARD
END:VTIMEZONE
END:VCALENDAR
