BEGIN:VCALENDAR
VERSION:2.0
PRODID:-//Plone.org//NONSGML plone.app.event//EN
X-WR-TIMEZONE:America/Sao_Paulo
BEGIN:VEVENT
SUMMARY:Tópicos em Sociologia em [ Auditório B101/102 do CAD 3]
DTSTART;TZID=America/Sao_Paulo;VALUE=DATE-TIME:20230616T130000
DTEND;TZID=America/Sao_Paulo;VALUE=DATE-TIME:20230616T173000
DTSTAMP;VALUE=DATE-TIME:20260421T161243Z
UID:15ec656a788644f4804828a59ff948e3@150.164.76.86:8080
CREATED;VALUE=DATE-TIME:20230414T184937Z
DESCRIPTION:<p>AULA TÓPICO EM SOCIOLOGIA.</p>
LAST-MODIFIED;VALUE=DATE-TIME:20230418T133421Z
URL:http://150.164.76.86:8080/cac/agenda/10609007446941143282
END:VEVENT
BEGIN:VTIMEZONE
TZID:America/Sao_Paulo
X-LIC-LOCATION:America/Sao_Paulo
BEGIN:STANDARD
DTSTART;VALUE=DATE-TIME:20230225T230000
TZNAME:BRT
TZOFFSETFROM:-0200
TZOFFSETTO:-0300
END:STANDARD
END:VTIMEZONE
END:VCALENDAR
