BEGIN:VCALENDAR
VERSION:2.0
PRODID:-//Plone.org//NONSGML plone.app.event//EN
X-WR-TIMEZONE:America/Sao_Paulo
BEGIN:VEVENT
SUMMARY:Programa UFMG de Formação Cidadã em defesa da democracia em [ A
 uditório B101/102 do CAD 3]
DTSTART;TZID=America/Sao_Paulo;VALUE=DATE-TIME:20241106T140000
DTEND;TZID=America/Sao_Paulo;VALUE=DATE-TIME:20241106T150000
DTSTAMP;VALUE=DATE-TIME:20260419T175921Z
UID:8eaa14c5ec70404d8aa5cde21c4f2c90@150.164.76.86:8080
CREATED;VALUE=DATE-TIME:20241016T145013Z
DESCRIPTION:Conferência com Dani Madrid Morales
LAST-MODIFIED;VALUE=DATE-TIME:20241016T155140Z
URL:http://150.164.76.86:8080/cac/agenda/10601381329157092551
END:VEVENT
BEGIN:VTIMEZONE
TZID:America/Sao_Paulo
X-LIC-LOCATION:America/Sao_Paulo
BEGIN:DAYLIGHT
DTSTART;VALUE=DATE-TIME:20241020T010000
TZNAME:BRST
TZOFFSETFROM:-0300
TZOFFSETTO:-0200
END:DAYLIGHT
END:VTIMEZONE
END:VCALENDAR
