BEGIN:VCALENDAR
VERSION:2.0
PRODID:-//Plone.org//NONSGML plone.app.event//EN
X-WR-TIMEZONE:America/Sao_Paulo
BEGIN:VEVENT
SUMMARY:Exibição de filmes - Improvisação II em [ Auditorio A102 do Ca
 d 2]
DTSTART;TZID=America/Sao_Paulo;VALUE=DATE-TIME:20221014T140000
DTEND;TZID=America/Sao_Paulo;VALUE=DATE-TIME:20221014T170000
DTSTAMP;VALUE=DATE-TIME:20260421T235250Z
UID:737094e7ba294b989b591da87c269602@150.164.76.86:8080
CREATED;VALUE=DATE-TIME:20220920T195418Z
DESCRIPTION:<p>O evento faz parte da disciplina Improvisação II do Depar
 tamento de Artes Cênicas da EBA/UFMG. Trata-se da exibição de filmes po
 r meio da projeção em tela a partir do meu computador e contando com o e
 quipamento de sonorização do espaço. Em 01/2022\, fiz o mesmo evento no
  auditório do CAD II. Na época\, o técnico das aulas abriu o auditório
  para mim e deixou o computador conectado no sistema multimídia e a sala 
 de operação aberta. Tenho um monitor PMG\, que é estudante da graduaç
 ão com bolsa da PROGRAD\, cuja função é auxiliar na operação técnic
 a de som e luz no teatro. No semestre passado ele fez a operação durante
  o evento sem nenhum problema. Ao final\, chamamos os técnicos das salas 
 que desligaram os equipamentos e fecharam o auditório. Sendo assim\, soli
 cito a possibilidade do evento voltar a acontecer no auditório do CAD nas
  mesmas condições. Atenciosamente\, Mariana Lima Muniz</p>
LAST-MODIFIED;VALUE=DATE-TIME:20220923T150010Z
URL:http://150.164.76.86:8080/cac/agenda/10582721083456184246
END:VEVENT
BEGIN:VTIMEZONE
TZID:America/Sao_Paulo
X-LIC-LOCATION:America/Sao_Paulo
BEGIN:STANDARD
DTSTART;VALUE=DATE-TIME:20220219T230000
TZNAME:BRT
TZOFFSETFROM:-0200
TZOFFSETTO:-0300
END:STANDARD
END:VTIMEZONE
END:VCALENDAR
