BEGIN:VCALENDAR
VERSION:2.0
PRODID:-//Plone.org//NONSGML plone.app.event//EN
X-WR-TIMEZONE:America/Sao_Paulo
BEGIN:VEVENT
SUMMARY:3º Encontro da Rede Mineira de Materiais 2D da FAPEMIG em [ Audit
 ório B101/102 do CAD 3 Outros espacos]
DTSTART;TZID=America/Sao_Paulo;VALUE=DATE-TIME:20231113T080000
DTEND;TZID=America/Sao_Paulo;VALUE=DATE-TIME:20231114T200000
DTSTAMP;VALUE=DATE-TIME:20260420T143111Z
UID:2fa9f92478404dd7a862399b7b75d659@150.164.76.86:8080
CREATED;VALUE=DATE-TIME:20230504T150839Z
DESCRIPTION:<p>A Rede Mineira de Materiais 2D da FAPEMIG é um projeto fin
 anciado pela FAPEMIG que conta com a participação de vários pesquisador
 es na área de estudos de materiais bidimensionais de diversas instituiç
 ões de Ensino/Pesquisa do estado de Minas Gerais. Esse encontro\, que oco
 rre anualmente\, tem como objetivo o compartilhamento e difusão do conhec
 imento desenvolvido por cada grupo de pesquisa com os demais membros da Re
 de\, assim como prestar contas à própria FAPEMIG. O evento contará com 
 apresentações orais dos pesquisadores líderes de grupos\, a serem reali
 zadas no auditório\, e de seções de posters\, a serem apresentados pelo
 s alunos de pós-graduação\, graduação e pós-doutorandos\, a serem re
 alizadas no saguão do CAD3. Para a realização do evento serão necessá
 rios: No auditório: -Sistema de som. -2 Microfones de Mao sem fio -2 Micr
 ofones de mesa -Projetor multimídia No saguão: -Serão necessários pain
 éis para a exibição de posters (serão 180 posters).</p>
LAST-MODIFIED;VALUE=DATE-TIME:20230713T154804Z
URL:http://150.164.76.86:8080/cac/agenda/10569743336251877641
END:VEVENT
BEGIN:VTIMEZONE
TZID:America/Sao_Paulo
X-LIC-LOCATION:America/Sao_Paulo
BEGIN:DAYLIGHT
DTSTART;VALUE=DATE-TIME:20231015T010000
TZNAME:BRST
TZOFFSETFROM:-0300
TZOFFSETTO:-0200
END:DAYLIGHT
END:VTIMEZONE
END:VCALENDAR
