BEGIN:VCALENDAR
VERSION:2.0
PRODID:-//Plone.org//NONSGML plone.app.event//EN
X-WR-TIMEZONE:America/Sao_Paulo
BEGIN:VEVENT
SUMMARY:Grande Conferência Economia\, Arte e Afeto. Economia do afeto e s
 eus limites na concepção filosófica de Michel Foucault em [ Auditório 
 B107 do CAD3]
DTSTART;TZID=America/Sao_Paulo;VALUE=DATE-TIME:20241114T140000
DTEND;TZID=America/Sao_Paulo;VALUE=DATE-TIME:20241114T170000
DTSTAMP;VALUE=DATE-TIME:20260419T175900Z
UID:32c6593f56344984b9a06025c623bd2e@150.164.76.86:8080
CREATED;VALUE=DATE-TIME:20241112T180325Z
DESCRIPTION:Cássia\, por gentileza\, precisamos de um auditório em subst
 ituição ao Auditório Bicalho\, onde a princípio ocorreria a conferenci
 a da catedrática do IEAT\, Profa. Marita Rainsborough\, da Universidade L
 euphana de Lüneburg\,\nO que ocorreu é que o Bicalho está com um forte 
 odor de mofo e as pessoas não estão conseguindo ficar dentro do auditór
 io. Precisamos apenas do apoio do audiovisual de sempre. Não haverá tran
 smissão online. Desde já\, agradecemos a atenção!
LAST-MODIFIED;VALUE=DATE-TIME:20241113T132756Z
URL:http://150.164.76.86:8080/cac/agenda/10565418793114515348
END:VEVENT
BEGIN:VTIMEZONE
TZID:America/Sao_Paulo
X-LIC-LOCATION:America/Sao_Paulo
BEGIN:DAYLIGHT
DTSTART;VALUE=DATE-TIME:20241020T010000
TZNAME:BRST
TZOFFSETFROM:-0300
TZOFFSETTO:-0200
END:DAYLIGHT
END:VTIMEZONE
END:VCALENDAR
