BEGIN:VCALENDAR
VERSION:2.0
PRODID:-//Plone.org//NONSGML plone.app.event//EN
X-WR-TIMEZONE:America/Sao_Paulo
BEGIN:VEVENT
SUMMARY:Reunião de Integração - Novembro Negro UFMG 2023 em [ Auditorio
  A104 do Cad 2]
DTSTART;TZID=America/Sao_Paulo;VALUE=DATE-TIME:20230830T090000
DTEND;TZID=America/Sao_Paulo;VALUE=DATE-TIME:20230830T120000
DTSTAMP;VALUE=DATE-TIME:20260421T091007Z
UID:eb645e78a5684fd5955ed8c709859a9b@150.164.76.86:8080
CREATED;VALUE=DATE-TIME:20230810T200300Z
DESCRIPTION:Reunião de Integração com a comunidade acadêmica e propone
 ntes de atividades do Novembro Negro UFMG 2023
LAST-MODIFIED;VALUE=DATE-TIME:20230811T164140Z
URL:http://150.164.76.86:8080/cac/agenda/1056048449041611145
END:VEVENT
BEGIN:VTIMEZONE
TZID:America/Sao_Paulo
X-LIC-LOCATION:America/Sao_Paulo
BEGIN:STANDARD
DTSTART;VALUE=DATE-TIME:20230225T230000
TZNAME:BRT
TZOFFSETFROM:-0200
TZOFFSETTO:-0300
END:STANDARD
END:VTIMEZONE
END:VCALENDAR
