BEGIN:VCALENDAR
VERSION:2.0
PRODID:-//Plone.org//NONSGML plone.app.event//EN
X-WR-TIMEZONE:America/Sao_Paulo
BEGIN:VEVENT
SUMMARY:FAME 2022 (Football Analytics\, Modeling and Experience) em [ Audi
 tório B101/102 do CAD 3]
DTSTART;TZID=America/Sao_Paulo;VALUE=DATE-TIME:20221021T090000
DTEND;TZID=America/Sao_Paulo;VALUE=DATE-TIME:20221021T140000
DTSTAMP;VALUE=DATE-TIME:20260421T235106Z
UID:3de66c6b0c744dc8b26072f3942be8ec@150.164.76.86:8080
CREATED;VALUE=DATE-TIME:20220909T151940Z
DESCRIPTION:<p>Modo aula - emails trocados entre prof. Wagner Meira e Cass
 ia (coordenação CAC) ajustes foram feitos junto à coordenação da Sema
 na do Conhecimento (Benigna)  para liberação do espaço. (emails 5/9\, 
 9/9 todos arquivados)</p>
LAST-MODIFIED;VALUE=DATE-TIME:20230111T201115Z
URL:http://150.164.76.86:8080/cac/agenda/10552709181897421328
END:VEVENT
BEGIN:VTIMEZONE
TZID:America/Sao_Paulo
X-LIC-LOCATION:America/Sao_Paulo
BEGIN:DAYLIGHT
DTSTART;VALUE=DATE-TIME:20221016T010000
TZNAME:BRST
TZOFFSETFROM:-0300
TZOFFSETTO:-0200
END:DAYLIGHT
END:VTIMEZONE
END:VCALENDAR
