BEGIN:VCALENDAR
VERSION:2.0
PRODID:-//Plone.org//NONSGML plone.app.event//EN
X-WR-TIMEZONE:America/Sao_Paulo
BEGIN:VEVENT
SUMMARY:Novembro negro/ Festival do Teatro Negro em [ Auditorio da Reit
 oria]
DTSTART;TZID=America/Sao_Paulo;VALUE=DATE-TIME:20241104T080000
DTEND;TZID=America/Sao_Paulo;VALUE=DATE-TIME:20241107T210000
DTSTAMP;VALUE=DATE-TIME:20260419T163544Z
UID:b6d6b37bfca1450abe3ebb45df34f8a6@150.164.76.86:8080
CREATED;VALUE=DATE-TIME:20240708T184859Z
DESCRIPTION:<p>O Festival de Teatro Negro faz parte da Programação do No
 vembro Negro 2024 e contará com apresentações de artes cênicas\, pales
 tras e mesas.</p>
LAST-MODIFIED;VALUE=DATE-TIME:20241001T173539Z
URL:http://150.164.76.86:8080/cac/agenda/10551193494516980419
END:VEVENT
BEGIN:VTIMEZONE
TZID:America/Sao_Paulo
X-LIC-LOCATION:America/Sao_Paulo
BEGIN:DAYLIGHT
DTSTART;VALUE=DATE-TIME:20241020T010000
TZNAME:BRST
TZOFFSETFROM:-0300
TZOFFSETTO:-0200
END:DAYLIGHT
END:VTIMEZONE
END:VCALENDAR
