BEGIN:VCALENDAR
VERSION:2.0
PRODID:-//Plone.org//NONSGML plone.app.event//EN
X-WR-TIMEZONE:America/Sao_Paulo
BEGIN:VEVENT
SUMMARY:6º Colóquio Ibero-Americano: Paisagem Cultural\, Patrimônio e P
 rojeto em [ Outros espacos Auditorio A102 do Cad 2 Auditorio A104 do Cad 2
 ]
DTSTART;TZID=America/Sao_Paulo;VALUE=DATE-TIME:20230911T081900
DTEND;TZID=America/Sao_Paulo;VALUE=DATE-TIME:20230915T081900
DTSTAMP;VALUE=DATE-TIME:20260421T091502Z
UID:8e8ada0eb0a74ebc8f8c352af761760a@150.164.76.86:8080
CREATED;VALUE=DATE-TIME:20230516T234357Z
DESCRIPTION:<p>Em setembro de 2023 vai acontecer a sexta edição do já t
 radicional “Colóquio Ibero-americano Paisagem Cultural\, patrimônio e 
 projeto”\, promovido pela Universidade Federal de Minas Gerais (UFMG)\, 
 pelo Instituto de Estudos do Desenvolvimento Sustentável (IEDS)\, e pelo 
 Comitê Brasileiro do Conselho Internacional de Monumentos e Sítios (ICOM
 OS-BRASIL). Nesse colóquio vão se aprofundar as discussões iniciadas na
 s edições anteriores\, que acontecem bianualmente desde 2010\, fazendo-s
 e uma avaliação das diversas dimensões da ideia da paisagem cultural\, 
 tanto aquelas de natureza conceitual\, metodológica e projetual\, quanto 
 suas implicações para as políticas de preservação\, intervenção e g
 estão do patrimônio\, com vistas ao desenvolvimento. Nesta edição\, al
 ém das dimensões do patrimônio e do projeto da paisagem\, vamos comemor
 ar os 80 anos do Conjunto da Pampulha\, inscrito como paisagem cultural na
  Lista do Patrimônio Mundial\, dando ênfase às paisagens da água e ao 
 planejamento urbano e regional a partir da paisagem cultural.</p>
LAST-MODIFIED;VALUE=DATE-TIME:20230522T183840Z
URL:http://150.164.76.86:8080/cac/agenda/10543918716587657148
END:VEVENT
BEGIN:VTIMEZONE
TZID:America/Sao_Paulo
X-LIC-LOCATION:America/Sao_Paulo
BEGIN:STANDARD
DTSTART;VALUE=DATE-TIME:20230225T230000
TZNAME:BRT
TZOFFSETFROM:-0200
TZOFFSETTO:-0300
END:STANDARD
END:VTIMEZONE
END:VCALENDAR
