BEGIN:VCALENDAR
VERSION:2.0
PRODID:-//Plone.org//NONSGML plone.app.event//EN
X-WR-TIMEZONE:America/Sao_Paulo
BEGIN:VEVENT
SUMMARY:Construção Permanente e Coletiva da Política de Saúde Mental: 
 Resultados e Perspectivas em [ Outros espacos]
DTSTART;TZID=America/Sao_Paulo;VALUE=DATE-TIME:20220519T140000
DTEND;TZID=America/Sao_Paulo;VALUE=DATE-TIME:20220519T170000
DTSTAMP;VALUE=DATE-TIME:20260422T081437Z
UID:dd8f2d463815484e9b2fe6c55241c7bb@150.164.76.86:8080
CREATED;VALUE=DATE-TIME:20220512T194239Z
DESCRIPTION:Essa atividade compõe a Semana de Saúde Mental que terá com
 o mediador o vice-reitor Prof. Alessandro. Gostaria de solicitar os apetre
 chos que acompanham o gabinete e o cerimonial.
LAST-MODIFIED;VALUE=DATE-TIME:20220512T212410Z
URL:http://150.164.76.86:8080/cac/agenda/10536658254626674513
END:VEVENT
BEGIN:VTIMEZONE
TZID:America/Sao_Paulo
X-LIC-LOCATION:America/Sao_Paulo
BEGIN:STANDARD
DTSTART;VALUE=DATE-TIME:20220219T230000
TZNAME:BRT
TZOFFSETFROM:-0200
TZOFFSETTO:-0300
END:STANDARD
END:VTIMEZONE
END:VCALENDAR
