BEGIN:VCALENDAR
VERSION:2.0
PRODID:-//Plone.org//NONSGML plone.app.event//EN
X-WR-TIMEZONE:America/Sao_Paulo
BEGIN:VEVENT
SUMMARY:BANCAS DE HETEROIDENTIFICAÇÃO em [ Outros espacos]
DTSTART;TZID=America/Sao_Paulo;VALUE=DATE-TIME:20240408T070000
DTEND;TZID=America/Sao_Paulo;VALUE=DATE-TIME:20240412T180000
DTSTAMP;VALUE=DATE-TIME:20260420T050004Z
UID:727fb00605c24bf8986ba6edb94c67ef@150.164.76.86:8080
CREATED;VALUE=DATE-TIME:20231218T172452Z
DESCRIPTION:<p><span>Bancas de Heteroidentificação para reserva de vagas
  racial nos processos seletivos dos cursos ofertados pela UFMG</span></p>
LAST-MODIFIED;VALUE=DATE-TIME:20231218T173443Z
URL:http://150.164.76.86:8080/cac/agenda/10522427329416128310
END:VEVENT
BEGIN:VTIMEZONE
TZID:America/Sao_Paulo
X-LIC-LOCATION:America/Sao_Paulo
BEGIN:STANDARD
DTSTART;VALUE=DATE-TIME:20240217T230000
TZNAME:BRT
TZOFFSETFROM:-0200
TZOFFSETTO:-0300
END:STANDARD
END:VTIMEZONE
END:VCALENDAR
