BEGIN:VCALENDAR
VERSION:2.0
PRODID:-//Plone.org//NONSGML plone.app.event//EN
X-WR-TIMEZONE:America/Sao_Paulo
BEGIN:VEVENT
SUMMARY:Manutenção ar condicionado em [ Auditorio da Reitoria]
DTSTART;TZID=America/Sao_Paulo;VALUE=DATE-TIME:20240613T070000
DTEND;TZID=America/Sao_Paulo;VALUE=DATE-TIME:20240717T210000
DTSTAMP;VALUE=DATE-TIME:20260419T222741Z
UID:d65c8b8fbd844584aa0ff8631e1c8999@150.164.76.86:8080
CREATED;VALUE=DATE-TIME:20240606T153043Z
DESCRIPTION:<p>manutenção de motor do ar condicionado</p>
LAST-MODIFIED;VALUE=DATE-TIME:20240606T153515Z
URL:http://150.164.76.86:8080/cac/agenda/1051669516016664525
END:VEVENT
BEGIN:VTIMEZONE
TZID:America/Sao_Paulo
X-LIC-LOCATION:America/Sao_Paulo
BEGIN:STANDARD
DTSTART;VALUE=DATE-TIME:20240217T230000
TZNAME:BRT
TZOFFSETFROM:-0200
TZOFFSETTO:-0300
END:STANDARD
END:VTIMEZONE
END:VCALENDAR
