BEGIN:VCALENDAR
VERSION:2.0
PRODID:-//Plone.org//NONSGML plone.app.event//EN
X-WR-TIMEZONE:America/Sao_Paulo
BEGIN:VEVENT
SUMMARY:Colação de Grau Medicina Turma 151 em [ Auditorio Nobre do CAD 1
 ]
DTSTART;TZID=America/Sao_Paulo;VALUE=DATE-TIME:20220207T120000
DTEND;TZID=America/Sao_Paulo;VALUE=DATE-TIME:20220208T160000
DTSTAMP;VALUE=DATE-TIME:20260422T111542Z
UID:4564ed75e4434d9282106225e7301604@150.164.76.86:8080
CREATED;VALUE=DATE-TIME:20220105T180641Z
DESCRIPTION:<p>Colação de Grau da Turma 151 de Medicina da Faculdade de 
 Medicina da UFMG. Será necessário uma mesa comprida ou três mesas\, com
  seis cadeiras e microfone. Um púlpito para o Mestre de Cerimônias com m
 icrofone. Se houver possibilidade de transmissão do evento via canal do Y
 outube\, precisaremos de equipe técnica que acompanha e faça a transmiss
 ão. Se houver possibilidade\, gostaria de deixar o auditório já pronto 
 no dia anterior\, com as mesas organizadas\, lugares reservados para os pr
 ofessores convidados. Gostaria de saber se há sala disponível para os Pr
 ofessores vestirem as becas. Preciso levar água para os convidados e algu
 ém para servir ou há no auditório alguém que faça esse serviço? Pret
 endemos chegar às 08:00 para organizar alunos e convidados. A Colação c
 omeçará às 10:00 e previsão de término é de ser às 13:00. Pedi até
  às 16:00 para dar tempo de retirar o que formos levar. Sobre a limpeza a
 ntes e depois do auditório\, é de responsabilidade nossa ou vocês provi
 denciam o serviço? Vamos precisar de projetor para transmissão do hino n
 acional e projeção da bandeira\, além de conexão com internet por meio
  de algum computador para assinatura da Ata durante o evento. Sonorizaçã
 o\, com músicas para abertura do evento. Dois ou três pontos de internet
  e acesso á rede para liberação de da Ata para os alunos assinarem via 
 Sistema Eletrônico de Informações (SEI).</p>\n<p>NAAE (Rachel) - Harley
  explicou a questão da transmissão\, controle de entrada\, álcool em ge
 l. E-mails arquivados.</p>
LAST-MODIFIED;VALUE=DATE-TIME:20220110T141523Z
URL:http://150.164.76.86:8080/cac/agenda/10484434065688169987
END:VEVENT
BEGIN:VTIMEZONE
TZID:America/Sao_Paulo
X-LIC-LOCATION:America/Sao_Paulo
BEGIN:DAYLIGHT
DTSTART;VALUE=DATE-TIME:20211017T010000
TZNAME:BRST
TZOFFSETFROM:-0300
TZOFFSETTO:-0200
END:DAYLIGHT
END:VTIMEZONE
END:VCALENDAR
