BEGIN:VCALENDAR
VERSION:2.0
PRODID:-//Plone.org//NONSGML plone.app.event//EN
X-WR-TIMEZONE:America/Sao_Paulo
BEGIN:VEVENT
SUMMARY:BANCA DE HETEROIDENTIFICAÇÃO em [ Auditório B101/102 do CAD 3 A
 uditório B107 do CAD3]
DTSTART;TZID=America/Sao_Paulo;VALUE=DATE-TIME:20250120T070000
DTEND;TZID=America/Sao_Paulo;VALUE=DATE-TIME:20250120T180000
DTSTAMP;VALUE=DATE-TIME:20260419T161812Z
UID:56d0b438ad55479d86c9d47acf270462@150.164.76.86:8080
CREATED;VALUE=DATE-TIME:20241122T121753Z
DESCRIPTION:<p>Realização de Bancas de Heteroidentificação para os Pro
 cessos Seletivos da EBAP</p>
LAST-MODIFIED;VALUE=DATE-TIME:20241122T184502Z
URL:http://150.164.76.86:8080/cac/agenda/10467225480512270008
END:VEVENT
BEGIN:VTIMEZONE
TZID:America/Sao_Paulo
X-LIC-LOCATION:America/Sao_Paulo
BEGIN:DAYLIGHT
DTSTART;VALUE=DATE-TIME:20241020T010000
TZNAME:BRST
TZOFFSETFROM:-0300
TZOFFSETTO:-0200
END:DAYLIGHT
END:VTIMEZONE
END:VCALENDAR
