BEGIN:VCALENDAR
VERSION:2.0
PRODID:-//Plone.org//NONSGML plone.app.event//EN
X-WR-TIMEZONE:America/Sao_Paulo
BEGIN:VEVENT
SUMMARY:Aula Magna da Pós-graduação ICB em [ Auditorio A102 do Cad 2]
DTSTART;TZID=America/Sao_Paulo;VALUE=DATE-TIME:20250317T130000
DTEND;TZID=America/Sao_Paulo;VALUE=DATE-TIME:20250317T180000
DTSTAMP;VALUE=DATE-TIME:20260419T120345Z
UID:ce6b3bc3c98645cf9a80ee69dae28293@150.164.76.86:8080
CREATED;VALUE=DATE-TIME:20250213T162922Z
DESCRIPTION:<p>3 microfones sem fio 6 microfones com fio (mesa de abertura
 ) Reitora Pró-Reitor de Pós-graduação Pró-Reitor de Pesquisa Diretor 
 do ICB Coordenador de NAPQ Coordenador do NAPG Arranjo de Flores</p>
LAST-MODIFIED;VALUE=DATE-TIME:20250214T150131Z
URL:http://150.164.76.86:8080/cac/agenda/10447025887596778291
END:VEVENT
BEGIN:VTIMEZONE
TZID:America/Sao_Paulo
X-LIC-LOCATION:America/Sao_Paulo
BEGIN:STANDARD
DTSTART;VALUE=DATE-TIME:20250215T230000
TZNAME:BRT
TZOFFSETFROM:-0200
TZOFFSETTO:-0300
END:STANDARD
END:VTIMEZONE
END:VCALENDAR
