BEGIN:VCALENDAR
VERSION:2.0
PRODID:-//Plone.org//NONSGML plone.app.event//EN
X-WR-TIMEZONE:America/Sao_Paulo
BEGIN:VEVENT
SUMMARY:OUTLAB - CAPACITAÇÃO EM EMPREENDEDORISMO E GESTÃO PARA INFRAEST
 RUTURAS DE PESQUISA em [ Auditório B107 do CAD3]
DTSTART;TZID=America/Sao_Paulo;VALUE=DATE-TIME:20241009T133000
DTEND;TZID=America/Sao_Paulo;VALUE=DATE-TIME:20241009T173000
DTSTAMP;VALUE=DATE-TIME:20260419T193443Z
UID:ac70474ef9de41e1ac2eb1929cf065fd@150.164.76.86:8080
CREATED;VALUE=DATE-TIME:20240801T193906Z
DESCRIPTION:<p>Microfone Câmera Ajustes para Transmissão Online</p>
LAST-MODIFIED;VALUE=DATE-TIME:20241007T202302Z
URL:http://150.164.76.86:8080/cac/agenda/10426790037528305058
END:VEVENT
BEGIN:VTIMEZONE
TZID:America/Sao_Paulo
X-LIC-LOCATION:America/Sao_Paulo
BEGIN:STANDARD
DTSTART;VALUE=DATE-TIME:20240217T230000
TZNAME:BRT
TZOFFSETFROM:-0200
TZOFFSETTO:-0300
END:STANDARD
END:VTIMEZONE
END:VCALENDAR
