BEGIN:VCALENDAR
VERSION:2.0
PRODID:-//Plone.org//NONSGML plone.app.event//EN
X-WR-TIMEZONE:America/Sao_Paulo
BEGIN:VEVENT
SUMMARY:Visita da U.S. Air Force OSR em [ Auditório B106 do CAD3]
DTSTART;TZID=America/Sao_Paulo;VALUE=DATE-TIME:20230413T090000
DTEND;TZID=America/Sao_Paulo;VALUE=DATE-TIME:20230413T100000
DTSTAMP;VALUE=DATE-TIME:20260421T150724Z
UID:9dfc797664704fe3a72c7ce539894fc8@150.164.76.86:8080
CREATED;VALUE=DATE-TIME:20230323T194840Z
DESCRIPTION:<p>Visita da U.S. Air Force OSR. O escritório financia pesqui
 sa básica em quase todas as áreas de conhecimento e não só na área de
  aviação/defesa. Os representantes da AFOSR estarão em BH nos dias 13 e
  14/04.</p>
LAST-MODIFIED;VALUE=DATE-TIME:20230406T151027Z
URL:http://150.164.76.86:8080/cac/agenda/10419966943628510418
END:VEVENT
BEGIN:VTIMEZONE
TZID:America/Sao_Paulo
X-LIC-LOCATION:America/Sao_Paulo
BEGIN:STANDARD
DTSTART;VALUE=DATE-TIME:20230225T230000
TZNAME:BRT
TZOFFSETFROM:-0200
TZOFFSETTO:-0300
END:STANDARD
END:VTIMEZONE
END:VCALENDAR
