BEGIN:VCALENDAR
VERSION:2.0
PRODID:-//Plone.org//NONSGML plone.app.event//EN
X-WR-TIMEZONE:America/Sao_Paulo
BEGIN:VEVENT
SUMMARY:Comemoração 95 anos da UFMG - Apresentação Sarandeiros em [ Au
 ditorio da Reitoria]
DTSTART;TZID=America/Sao_Paulo;VALUE=DATE-TIME:20220912T090000
DTEND;TZID=America/Sao_Paulo;VALUE=DATE-TIME:20220912T210000
DTSTAMP;VALUE=DATE-TIME:20260422T012805Z
UID:7161e40220c343e5a06134a7fd45df9c@150.164.76.86:8080
CREATED;VALUE=DATE-TIME:20220819T144601Z
DESCRIPTION:<p>Equipamentos de som conforme rider que será encaminhado po
 r e-mail.</p>
LAST-MODIFIED;VALUE=DATE-TIME:20220831T142446Z
URL:http://150.164.76.86:8080/cac/agenda/10414796144205329004
END:VEVENT
BEGIN:VTIMEZONE
TZID:America/Sao_Paulo
X-LIC-LOCATION:America/Sao_Paulo
BEGIN:STANDARD
DTSTART;VALUE=DATE-TIME:20220219T230000
TZNAME:BRT
TZOFFSETFROM:-0200
TZOFFSETTO:-0300
END:STANDARD
END:VTIMEZONE
END:VCALENDAR
