BEGIN:VCALENDAR
VERSION:2.0
PRODID:-//Plone.org//NONSGML plone.app.event//EN
X-WR-TIMEZONE:America/Sao_Paulo
BEGIN:VEVENT
SUMMARY:Semana Servidor Mesas Temáticas em [ Auditorio da Reitoria]
DTSTART;TZID=America/Sao_Paulo;VALUE=DATE-TIME:20221024T140000
DTEND;TZID=America/Sao_Paulo;VALUE=DATE-TIME:20221024T160000
DTSTAMP;VALUE=DATE-TIME:20260421T235019Z
UID:0a3e7e2f195d4d23838d039ab622fa8c@150.164.76.86:8080
CREATED;VALUE=DATE-TIME:20220909T173042Z
DESCRIPTION:<p>Oficina carreira docente. Haverá transmissão pelo canal d
 a CAC</p>
LAST-MODIFIED;VALUE=DATE-TIME:20220909T175510Z
URL:http://150.164.76.86:8080/cac/agenda/10388056098540180455
END:VEVENT
BEGIN:VTIMEZONE
TZID:America/Sao_Paulo
X-LIC-LOCATION:America/Sao_Paulo
BEGIN:DAYLIGHT
DTSTART;VALUE=DATE-TIME:20221016T010000
TZNAME:BRST
TZOFFSETFROM:-0300
TZOFFSETTO:-0200
END:DAYLIGHT
END:VTIMEZONE
END:VCALENDAR
