BEGIN:VCALENDAR
VERSION:2.0
PRODID:-//Plone.org//NONSGML plone.app.event//EN
X-WR-TIMEZONE:America/Sao_Paulo
BEGIN:VEVENT
SUMMARY:Hospital Risoleta Tolentino Neves - HRTN -  etapa de heteroidentif
 icação do processo seletivo em [ Outros espacos Auditorio Nobre do CAD 1
  Auditorio 1A do CAD 1 Auditorio 2A do CAD 1]
DTSTART;TZID=America/Sao_Paulo;VALUE=DATE-TIME:20240803T080000
DTEND;TZID=America/Sao_Paulo;VALUE=DATE-TIME:20240804T200000
DTSTAMP;VALUE=DATE-TIME:20260419T205551Z
UID:0a5b92efd2be4046a9b9c23acea8dec2@150.164.76.86:8080
CREATED;VALUE=DATE-TIME:20240703T172600Z
DESCRIPTION:<p><span>aplicação da etapa de heteroidentificação do proc
 esso seletivo HRTN</span><span>\, organizado pela FUNDEP.</span></p>
LAST-MODIFIED;VALUE=DATE-TIME:20240703T172716Z
URL:http://150.164.76.86:8080/cac/agenda/10381557520888950707
END:VEVENT
BEGIN:VTIMEZONE
TZID:America/Sao_Paulo
X-LIC-LOCATION:America/Sao_Paulo
BEGIN:STANDARD
DTSTART;VALUE=DATE-TIME:20240217T230000
TZNAME:BRT
TZOFFSETFROM:-0200
TZOFFSETTO:-0300
END:STANDARD
END:VTIMEZONE
END:VCALENDAR
