BEGIN:VCALENDAR
VERSION:2.0
PRODID:-//Plone.org//NONSGML plone.app.event//EN
X-WR-TIMEZONE:America/Sao_Paulo
BEGIN:VEVENT
SUMMARY:Congresso Brasileiro de Auditoria e Controle interno - COBACI em [
  Auditório B101/102 do CAD 3]
DTSTART;TZID=America/Sao_Paulo;VALUE=DATE-TIME:20200805T080000
DTEND;TZID=America/Sao_Paulo;VALUE=DATE-TIME:20200807T180000
DTSTAMP;VALUE=DATE-TIME:20260424T195209Z
UID:ddffd2de76114791808a07d290b9ce74@150.164.76.86:8080
CREATED;VALUE=DATE-TIME:20200127T142328Z
DESCRIPTION:<p>Como acordado\, segue abaixo descrição do evento Congress
 o Brasileiro de Auditoria e Controle Interno – COBACI 2020\, a se realiz
 ar no período de 5 a 7 de agosto de 2020\, de 8 às 18 horas\, reservado 
 no Auditório B102 CAD 3\, em nome da Auditora-Geral\, Terezinha Vitória 
 de Freitas Silva.</p>\n<p>O Congresso Brasileiro de Auditoria e Controle I
 nterno – COBACI é um evento técnico e científico em que são apresent
 ados e debatidos temas relacionados à auditoria interna governamental\, a
 o controle interno\, à transparência pública\, ao acesso à informaçã
 o\, à prevenção e ao combate à corrupção.</p>\n<p>É um evento organ
 izado pela União Nacional dos Auditores do Ministério da Educação – 
 UNAMEC\, entidade civil de direito privado\, sem fins lucrativos\, em parc
 eria com outras entidades públicas e privadas.</p>\n<p>O COBACI visa ampl
 iar o intercâmbio de informações entre auditores internos governamentai
 s dos entes federados e fomentar a cooperação interinstitucional.</p>\n<
 p><br />Equipamentos: som e datashow</p>\n<p>Serviços: técnico de som e 
 projeção</p>\n<p><br />Programação:</p>\n<p>O COBACI 2020 terá a part
 icipação de autoridades e especialistas para apresentar e debater os tem
 as auditoria interna\, sistemas de integridade\, governança\, combate à 
 corrupção\, mecanismos institucionais para o desenvolvimento de polític
 as públicas e boas práticas na atividade de auditoria interna\, entre el
 as\, a consultoria.</p>\n<p>Agradecemos a atenção e nos colocamos à dis
 posição para os esclarecimentos que se fizerem necessários.</p>
LAST-MODIFIED;VALUE=DATE-TIME:20230111T201049Z
URL:http://150.164.76.86:8080/cac/agenda/10367953189549919584
END:VEVENT
BEGIN:VTIMEZONE
TZID:America/Sao_Paulo
X-LIC-LOCATION:America/Sao_Paulo
BEGIN:STANDARD
DTSTART;VALUE=DATE-TIME:20200215T230000
TZNAME:BRT
TZOFFSETFROM:-0200
TZOFFSETTO:-0300
END:STANDARD
END:VTIMEZONE
END:VCALENDAR
