BEGIN:VCALENDAR
VERSION:2.0
PRODID:-//Plone.org//NONSGML plone.app.event//EN
X-WR-TIMEZONE:America/Sao_Paulo
BEGIN:VEVENT
SUMMARY:COLEGIADO ESPECIAL DAS FORMAÇÕES TRANSVERSAIS em [ Auditório B1
 06 do CAD3]
DTSTART;TZID=America/Sao_Paulo;VALUE=DATE-TIME:20221212T140000
DTEND;TZID=America/Sao_Paulo;VALUE=DATE-TIME:20221212T170000
DTSTAMP;VALUE=DATE-TIME:20260421T222335Z
UID:7586f49bbc574ebdb62dc72a4d10e9e1@150.164.76.86:8080
CREATED;VALUE=DATE-TIME:20221010T173846Z
DESCRIPTION:<p><span>ATENDIMENTO MODO AULA PELA EQUIPE DO CAD3</span><br /
 ><span>REUNIÃO MENSAL REALIZADA TODA SEGUNDA SEGUNDA-FEIRA DO MÊS (14/11
  E 12/12)</span><br /><span>NÃO É NECESSÁRIO A EMISSÃO DE CHECK-LIST</
 span><br /><span>MOTIVO: ALTERAÇÃO DE LOCAL DE SALA B204 PARA RECEBER A 
 ADMINISTRAÇÃO CENTRAL DA CAC</span></p>
LAST-MODIFIED;VALUE=DATE-TIME:20221010T185343Z
URL:http://150.164.76.86:8080/cac/agenda/1036696889987653483
END:VEVENT
BEGIN:VTIMEZONE
TZID:America/Sao_Paulo
X-LIC-LOCATION:America/Sao_Paulo
BEGIN:DAYLIGHT
DTSTART;VALUE=DATE-TIME:20221016T010000
TZNAME:BRST
TZOFFSETFROM:-0300
TZOFFSETTO:-0200
END:DAYLIGHT
END:VTIMEZONE
END:VCALENDAR
