BEGIN:VCALENDAR
VERSION:2.0
PRODID:-//Plone.org//NONSGML plone.app.event//EN
X-WR-TIMEZONE:America/Sao_Paulo
BEGIN:VEVENT
SUMMARY:COMEMORAÇÃO DOS 50 ANOS DO PROGRAMA DE PÓS GRADUAÇÃO EM PATOL
 OGIA em [ Auditório B107 do CAD3]
DTSTART;TZID=America/Sao_Paulo;VALUE=DATE-TIME:20230922T140000
DTEND;TZID=America/Sao_Paulo;VALUE=DATE-TIME:20230922T180000
DTSTAMP;VALUE=DATE-TIME:20260421T075206Z
UID:cdceff1098474beb8878be422c553872@150.164.76.86:8080
CREATED;VALUE=DATE-TIME:20230824T195825Z
DESCRIPTION:<p>O Evento de Comemoração dos 50 anos do Programa de Pós g
 raduação em Patologia contará com palestras e mesas redondas que irão 
 discutir sobre a evolução e planejamento futuro do Programa. Serão nece
 ssários equipamentos de audio visual incluindo computador\, microfones\, 
 projeção e som de qualidade. Se possível necessitamos de um espaço e d
 uas mesas para a realização de coffee break .</p>
LAST-MODIFIED;VALUE=DATE-TIME:20230913T201112Z
URL:http://150.164.76.86:8080/cac/agenda/10357740442308219609
END:VEVENT
BEGIN:VTIMEZONE
TZID:America/Sao_Paulo
X-LIC-LOCATION:America/Sao_Paulo
BEGIN:STANDARD
DTSTART;VALUE=DATE-TIME:20230225T230000
TZNAME:BRT
TZOFFSETFROM:-0200
TZOFFSETTO:-0300
END:STANDARD
END:VTIMEZONE
END:VCALENDAR
