BEGIN:VCALENDAR
VERSION:2.0
PRODID:-//Plone.org//NONSGML plone.app.event//EN
X-WR-TIMEZONE:America/Sao_Paulo
BEGIN:VEVENT
SUMMARY:Outorga do título de Professor Emérito ao Professor Alberto Henr
 ique Frade Laender em [ Outros espacos]
DTSTART;TZID=America/Sao_Paulo;VALUE=DATE-TIME:20240411T180000
DTEND;TZID=America/Sao_Paulo;VALUE=DATE-TIME:20240411T200000
DTSTAMP;VALUE=DATE-TIME:20260420T044444Z
UID:b75d97e076174120a0794cbd2e60ab0f@150.164.76.86:8080
CREATED;VALUE=DATE-TIME:20240327T180314Z
DESCRIPTION:<p>Outorga do título de Professor Emérito ao Professor Alber
 to Henrique Frade Laender</p>
LAST-MODIFIED;VALUE=DATE-TIME:20240327T180745Z
URL:http://150.164.76.86:8080/cac/agenda/10349027376324492721
END:VEVENT
BEGIN:VTIMEZONE
TZID:America/Sao_Paulo
X-LIC-LOCATION:America/Sao_Paulo
BEGIN:STANDARD
DTSTART;VALUE=DATE-TIME:20240217T230000
TZNAME:BRT
TZOFFSETFROM:-0200
TZOFFSETTO:-0300
END:STANDARD
END:VTIMEZONE
END:VCALENDAR
