BEGIN:VCALENDAR
VERSION:2.0
PRODID:-//Plone.org//NONSGML plone.app.event//EN
X-WR-TIMEZONE:America/Sao_Paulo
BEGIN:VEVENT
SUMMARY:Reunião Conselho Diretores em [ Outros espacos]
DTSTART;TZID=America/Sao_Paulo;VALUE=DATE-TIME:20240430T140000
DTEND;TZID=America/Sao_Paulo;VALUE=DATE-TIME:20240430T180000
DTSTAMP;VALUE=DATE-TIME:20260420T044811Z
UID:d7d82c468247465ab26b58d3f0097892@150.164.76.86:8080
CREATED;VALUE=DATE-TIME:20240328T152826Z
DESCRIPTION:<p><span style="text-align: left\; text-decoration-thickness: 
 initial\; text-decoration-style: initial\; text-decoration-color: initial\
 ; float: none\; ">Reunião Conselho Diretores (a confirmar)</span></p>
LAST-MODIFIED;VALUE=DATE-TIME:20240328T153051Z
URL:http://150.164.76.86:8080/cac/agenda/10336035393771629631
END:VEVENT
BEGIN:VTIMEZONE
TZID:America/Sao_Paulo
X-LIC-LOCATION:America/Sao_Paulo
BEGIN:STANDARD
DTSTART;VALUE=DATE-TIME:20240217T230000
TZNAME:BRT
TZOFFSETFROM:-0200
TZOFFSETTO:-0300
END:STANDARD
END:VTIMEZONE
END:VCALENDAR
