BEGIN:VCALENDAR
VERSION:2.0
PRODID:-//Plone.org//NONSGML plone.app.event//EN
X-WR-TIMEZONE:America/Sao_Paulo
BEGIN:VEVENT
SUMMARY:Semana do Conhecimento em [ Auditorio da Reitoria Saguao da Reitor
 ia Gramado da Reitoria Entorno da Praca de Servicos Auditorio Nobre do CAD
  1 Auditorio 1A do CAD 1 Auditorio 2A do CAD 1 Auditorio A102 do Cad 2 Aud
 itório B101/102 do CAD 3 Auditório B301 do CAD 3 Auditório B302 do CAD 
 3 Auditório B106 do CAD3 Auditório B107 do CAD3 Arena da praça de servi
 ços]
DTSTART;TZID=America/Sao_Paulo;VALUE=DATE-TIME:20231023T080000
DTEND;TZID=America/Sao_Paulo;VALUE=DATE-TIME:20231027T220000
DTSTAMP;VALUE=DATE-TIME:20260420T201138Z
UID:c30706f3a3d44da39af8f7180e1ae7f1@150.164.76.86:8080
CREATED;VALUE=DATE-TIME:20230104T200016Z
DESCRIPTION:<p>Semana do Conhecimento 2023</p>
LAST-MODIFIED;VALUE=DATE-TIME:20230822T195352Z
URL:http://150.164.76.86:8080/cac/agenda/10320222221237751336
END:VEVENT
BEGIN:VTIMEZONE
TZID:America/Sao_Paulo
X-LIC-LOCATION:America/Sao_Paulo
BEGIN:DAYLIGHT
DTSTART;VALUE=DATE-TIME:20231015T010000
TZNAME:BRST
TZOFFSETFROM:-0300
TZOFFSETTO:-0200
END:DAYLIGHT
END:VTIMEZONE
END:VCALENDAR
