BEGIN:VCALENDAR
VERSION:2.0
PRODID:-//Plone.org//NONSGML plone.app.event//EN
X-WR-TIMEZONE:America/Sao_Paulo
BEGIN:VEVENT
SUMMARY:63 anos do Laboratório de Vírus - UFMG em [ Auditorio Nobre do C
 AD 1 - sem copa\, saguão parcial Auditório B101/102 do CAD 3 (102 s/ ar 
 condic)]
DTSTART;TZID=America/Sao_Paulo;VALUE=DATE-TIME:20250411T080000
DTEND;TZID=America/Sao_Paulo;VALUE=DATE-TIME:20250411T200000
DTSTAMP;VALUE=DATE-TIME:20260419T105324Z
UID:d7772faf57da43cfbbdf6f091e71b48d@150.164.76.86:8080
CREATED;VALUE=DATE-TIME:20250114T122724Z
DESCRIPTION:<p>Simpósio científico sobre virologia\, em celebração ao 
 63 anos do Laboratório de Vírus da UFMG. Evento que reunirá virologista
 s nacionais e discutirá diversos temas atuais em virologia. Evento gratui
 to a estudantes de graduação e pós-graduação</p>
LAST-MODIFIED;VALUE=DATE-TIME:20250407T130625Z
URL:http://150.164.76.86:8080/cac/agenda/10308985005395131005
END:VEVENT
BEGIN:VTIMEZONE
TZID:America/Sao_Paulo
X-LIC-LOCATION:America/Sao_Paulo
BEGIN:STANDARD
DTSTART;VALUE=DATE-TIME:20250215T230000
TZNAME:BRT
TZOFFSETFROM:-0200
TZOFFSETTO:-0300
END:STANDARD
END:VTIMEZONE
END:VCALENDAR
