BEGIN:VCALENDAR
VERSION:2.0
PRODID:-//Plone.org//NONSGML plone.app.event//EN
X-WR-TIMEZONE:America/Sao_Paulo
BEGIN:VEVENT
SUMMARY:VII Workshop da Pós Graduação em Física da UFMG em [ Auditorio
  A104 do Cad 2]
DTSTART;TZID=America/Sao_Paulo;VALUE=DATE-TIME:20240305T090000
DTEND;TZID=America/Sao_Paulo;VALUE=DATE-TIME:20240308T180000
DTSTAMP;VALUE=DATE-TIME:20260420T044741Z
UID:7696e405efc6446c8ff0e61a6b966e8e@150.164.76.86:8080
CREATED;VALUE=DATE-TIME:20240229T194706Z
DESCRIPTION:<p>Evento para 220 pessoas: XVII Workshop do Programa de Pós 
 Graduação em Física da UFMG\, a ser realizado nos dias 5\, 6\, 7 e 8 de
  Março. Mais informações do evento: https://workshopfisica.info/ \, inc
 luindo cronograma e palestrantes convidados. Necessidade de ar condicionad
 o\; microfone\; retroprojetor\; cabos VGA\; HDMI\; internet para transmiss
 ão\; espaço para coffee break. Fico a disposição para demais esclareci
 mentos e agradeço a disponibilidade. Cordialmente. Lívia Siman</p>
LAST-MODIFIED;VALUE=DATE-TIME:20240301T132608Z
URL:http://150.164.76.86:8080/cac/agenda/10281518294682390418
END:VEVENT
BEGIN:VTIMEZONE
TZID:America/Sao_Paulo
X-LIC-LOCATION:America/Sao_Paulo
BEGIN:STANDARD
DTSTART;VALUE=DATE-TIME:20240217T230000
TZNAME:BRT
TZOFFSETFROM:-0200
TZOFFSETTO:-0300
END:STANDARD
END:VTIMEZONE
END:VCALENDAR
