BEGIN:VCALENDAR
VERSION:2.0
PRODID:-//Plone.org//NONSGML plone.app.event//EN
X-WR-TIMEZONE:America/Sao_Paulo
BEGIN:VEVENT
SUMMARY:Feira de Artesanato em [ Entorno da Praca de Servicos]
DTSTART;TZID=America/Sao_Paulo;VALUE=DATE-TIME:20231002T080000
DTEND;TZID=America/Sao_Paulo;VALUE=DATE-TIME:20231006T170000
DTSTAMP;VALUE=DATE-TIME:20260420T130656Z
UID:b417a9f26e6c49d1b1ea504b5d63ad8f@150.164.76.86:8080
CREATED;VALUE=DATE-TIME:20221212T134640Z
DESCRIPTION:Empréstimo de 70 painéis e limpeza do local.
LAST-MODIFIED;VALUE=DATE-TIME:20221214T124145Z
URL:http://150.164.76.86:8080/cac/agenda/10270741822315127341
END:VEVENT
BEGIN:VTIMEZONE
TZID:America/Sao_Paulo
X-LIC-LOCATION:America/Sao_Paulo
BEGIN:STANDARD
DTSTART;VALUE=DATE-TIME:20230225T230000
TZNAME:BRT
TZOFFSETFROM:-0200
TZOFFSETTO:-0300
END:STANDARD
END:VTIMEZONE
END:VCALENDAR
