BEGIN:VCALENDAR
VERSION:2.0
PRODID:-//Plone.org//NONSGML plone.app.event//EN
X-WR-TIMEZONE:America/Sao_Paulo
BEGIN:VEVENT
SUMMARY:Visita Técnica - Lomonosov Moscow State University em [ Auditóri
 o B101/102 do CAD 3]
DTSTART;TZID=America/Sao_Paulo;VALUE=DATE-TIME:20250311T080000
DTEND;TZID=America/Sao_Paulo;VALUE=DATE-TIME:20250311T130000
DTSTAMP;VALUE=DATE-TIME:20260419T120040Z
UID:45087593b60c43c3afb9c0e7c32f73ec@150.164.76.86:8080
CREATED;VALUE=DATE-TIME:20250306T192226Z
DESCRIPTION:Visita técnica dos professores da Lomonosov Moscow State Univ
 ersity.
LAST-MODIFIED;VALUE=DATE-TIME:20250307T141743Z
URL:http://150.164.76.86:8080/cac/agenda/10269872579954825507
END:VEVENT
BEGIN:VTIMEZONE
TZID:America/Sao_Paulo
X-LIC-LOCATION:America/Sao_Paulo
BEGIN:STANDARD
DTSTART;VALUE=DATE-TIME:20250215T230000
TZNAME:BRT
TZOFFSETFROM:-0200
TZOFFSETTO:-0300
END:STANDARD
END:VTIMEZONE
END:VCALENDAR
