BEGIN:VCALENDAR
VERSION:2.0
PRODID:-//Plone.org//NONSGML plone.app.event//EN
X-WR-TIMEZONE:America/Sao_Paulo
BEGIN:VEVENT
SUMMARY:Audiência Pública PDI UFMG 2024-2029 - manhã em [ Auditorio da 
 Reitoria]
DTSTART;TZID=America/Sao_Paulo;VALUE=DATE-TIME:20230830T080000
DTEND;TZID=America/Sao_Paulo;VALUE=DATE-TIME:20230830T120000
DTSTAMP;VALUE=DATE-TIME:20260421T091452Z
UID:afbb2933845a497cad4aaf2e6a5f0947@150.164.76.86:8080
CREATED;VALUE=DATE-TIME:20230712T191627Z
DESCRIPTION:<p>Turno da manhã Campus Pampulha - Audit. Reitoria</p>
LAST-MODIFIED;VALUE=DATE-TIME:20230712T192111Z
URL:http://150.164.76.86:8080/cac/agenda/1026782757653992845
END:VEVENT
BEGIN:VTIMEZONE
TZID:America/Sao_Paulo
X-LIC-LOCATION:America/Sao_Paulo
BEGIN:STANDARD
DTSTART;VALUE=DATE-TIME:20230225T230000
TZNAME:BRT
TZOFFSETFROM:-0200
TZOFFSETTO:-0300
END:STANDARD
END:VTIMEZONE
END:VCALENDAR
