BEGIN:VCALENDAR
VERSION:2.0
PRODID:-//Plone.org//NONSGML plone.app.event//EN
X-WR-TIMEZONE:America/Sao_Paulo
BEGIN:VEVENT
SUMMARY:Mostra de cinema BH-Texas (Chamadas PRAE 2023) em [ Auditorio A102
  do Cad 2]
DTSTART;TZID=America/Sao_Paulo;VALUE=DATE-TIME:20231006T140000
DTEND;TZID=America/Sao_Paulo;VALUE=DATE-TIME:20231006T200000
DTSTAMP;VALUE=DATE-TIME:20260421T020439Z
UID:57040e515b93497ca6104667958f91b0@150.164.76.86:8080
CREATED;VALUE=DATE-TIME:20230522T141328Z
DESCRIPTION:<p>Projeto aprovado nas Chamadas PRAE (UFMG) 2023. Encerrament
 o de mostra cinematográfica acompanhada de palestras\, homenagens e debat
 es sobre variados temas relacionados à estética\, história\, cultura\, 
 produção\, atuação\, direção e crítica cinematográficas a partir d
 e filmes dirigidos/produzidos por diretores/produtores mineiros ou que ten
 ham Minas Gerais como ambientação das filmagens.</p>
LAST-MODIFIED;VALUE=DATE-TIME:20230929T131845Z
URL:http://150.164.76.86:8080/cac/agenda/10266478146463549568
END:VEVENT
BEGIN:VTIMEZONE
TZID:America/Sao_Paulo
X-LIC-LOCATION:America/Sao_Paulo
BEGIN:STANDARD
DTSTART;VALUE=DATE-TIME:20230225T230000
TZNAME:BRT
TZOFFSETFROM:-0200
TZOFFSETTO:-0300
END:STANDARD
END:VTIMEZONE
END:VCALENDAR
