BEGIN:VCALENDAR
VERSION:2.0
PRODID:-//Plone.org//NONSGML plone.app.event//EN
X-WR-TIMEZONE:America/Sao_Paulo
BEGIN:VEVENT
SUMMARY:Cine Clube em [ Auditorio A104 do Cad 2]
DTSTART;TZID=America/Sao_Paulo;VALUE=DATE-TIME:20240509T160000
DTEND;TZID=America/Sao_Paulo;VALUE=DATE-TIME:20240509T190000
DTSTAMP;VALUE=DATE-TIME:20260420T031319Z
UID:d7282835028241a3a755524476553c6b@150.164.76.86:8080
CREATED;VALUE=DATE-TIME:20240429T190601Z
DESCRIPTION:Solicita reserva do auditório para realização de um evento 
 cultural. Cine Clube.
LAST-MODIFIED;VALUE=DATE-TIME:20240430T134044Z
URL:http://150.164.76.86:8080/cac/agenda/10222216233200382294
END:VEVENT
BEGIN:VTIMEZONE
TZID:America/Sao_Paulo
X-LIC-LOCATION:America/Sao_Paulo
BEGIN:STANDARD
DTSTART;VALUE=DATE-TIME:20240217T230000
TZNAME:BRT
TZOFFSETFROM:-0200
TZOFFSETTO:-0300
END:STANDARD
END:VTIMEZONE
END:VCALENDAR
