BEGIN:VCALENDAR
VERSION:2.0
PRODID:-//Plone.org//NONSGML plone.app.event//EN
X-WR-TIMEZONE:America/Sao_Paulo
BEGIN:VEVENT
SUMMARY:Formatura em formato hibrido-Museologia\, Arquivologia e Bibliotec
 onomia em [ Auditorio A104 do Cad 2]
DTSTART;TZID=America/Sao_Paulo;VALUE=DATE-TIME:20211112T140000
DTEND;TZID=America/Sao_Paulo;VALUE=DATE-TIME:20211112T170000
DTSTAMP;VALUE=DATE-TIME:20260423T125203Z
UID:cc0e6df0f7d947379549d24092274f72@150.164.76.86:8080
CREATED;VALUE=DATE-TIME:20211021T162512Z
DESCRIPTION:<p>Colação de grau dos cursos de biblioteconomia\, arquivolo
 gia e museologia. Será com número limitado de pessoas para garantir prot
 ocolos sanitários.</p>
LAST-MODIFIED;VALUE=DATE-TIME:20211108T181747Z
URL:http://150.164.76.86:8080/cac/agenda/10219977647545801224
END:VEVENT
BEGIN:VTIMEZONE
TZID:America/Sao_Paulo
X-LIC-LOCATION:America/Sao_Paulo
BEGIN:DAYLIGHT
DTSTART;VALUE=DATE-TIME:20211017T010000
TZNAME:BRST
TZOFFSETFROM:-0300
TZOFFSETTO:-0200
END:DAYLIGHT
END:VTIMEZONE
END:VCALENDAR
